BEGIN:VCALENDAR
CALSCALE:GREGORIAN
VERSION:2.0
PRODID:-//Events Calendar//iCal4j 1.0//EN
BEGIN:VTIMEZONE
TZID:Europe/Brussels
LAST-MODIFIED:20260306T231828Z
TZURL:https://www.tzurl.org/zoneinfo/Europe/Brussels
X-LIC-LOCATION:Europe/Brussels
X-PROLEPTIC-TZNAME:LMT
BEGIN:STANDARD
TZNAME:BMT
TZOFFSETFROM:+001730
TZOFFSETTO:+001730
DTSTART:18800101T000000
END:STANDARD
BEGIN:STANDARD
TZNAME:WET
TZOFFSETFROM:+001730
TZOFFSETTO:+0000
DTSTART:18920501T001730
END:STANDARD
BEGIN:STANDARD
TZNAME:CET
TZOFFSETFROM:+0000
TZOFFSETTO:+0100
DTSTART:19141108T000000
END:STANDARD
BEGIN:DAYLIGHT
TZNAME:CEST
TZOFFSETFROM:+0100
TZOFFSETTO:+0200
DTSTART:19160501T000000
RDATE:19400520T030000
RDATE:19430329T020000
RDATE:19440403T020000
RDATE:19450402T020000
RDATE:19460519T020000
END:DAYLIGHT
BEGIN:STANDARD
TZNAME:CET
TZOFFSETFROM:+0200
TZOFFSETTO:+0100
DTSTART:19161001T010000
RDATE:19421102T030000
RDATE:19431004T030000
RDATE:19440917T030000
RDATE:19450916T030000
RDATE:19461007T030000
RDATE:19770925T030000
RDATE:19781001T030000
END:STANDARD
BEGIN:DAYLIGHT
TZNAME:CEST
TZOFFSETFROM:+0100
TZOFFSETTO:+0200
DTSTART:19170416T020000
RRULE:FREQ=YEARLY;UNTIL=19180415T010000Z;BYMONTH=4;BYDAY=3MO
END:DAYLIGHT
BEGIN:STANDARD
TZNAME:CET
TZOFFSETFROM:+0200
TZOFFSETTO:+0100
DTSTART:19170917T030000
RRULE:FREQ=YEARLY;UNTIL=19180916T010000Z;BYMONTH=9;BYDAY=3MO
END:STANDARD
BEGIN:STANDARD
TZNAME:WET
TZOFFSETFROM:+0100
TZOFFSETTO:+0000
DTSTART:19181111T120000
RDATE:19191005T000000
RDATE:19201024T000000
RDATE:19211026T000000
RDATE:19391119T030000
END:STANDARD
BEGIN:DAYLIGHT
TZNAME:WEST
TZOFFSETFROM:+0000
TZOFFSETTO:+0100
DTSTART:19190301T230000
RDATE:19200214T230000
RDATE:19210314T230000
RDATE:19220325T230000
RDATE:19230421T230000
RDATE:19240329T230000
RDATE:19250404T230000
RDATE:19260417T230000
RDATE:19270409T230000
RDATE:19280414T230000
RDATE:19290421T020000
RDATE:19300413T020000
RDATE:19310419T020000
RDATE:19320403T020000
RDATE:19330326T020000
RDATE:19340408T020000
RDATE:19350331T020000
RDATE:19360419T020000
RDATE:19370404T020000
RDATE:19380327T020000
RDATE:19390416T020000
RDATE:19400225T020000
END:DAYLIGHT
BEGIN:STANDARD
TZNAME:WET
TZOFFSETFROM:+0100
TZOFFSETTO:+0000
DTSTART:19221008T000000
RRULE:FREQ=YEARLY;UNTIL=19271001T230000Z;BYMONTH=10;BYMONTHDAY=2,3,4,5,6,7,
 8;BYDAY=SU
END:STANDARD
BEGIN:STANDARD
TZNAME:WET
TZOFFSETFROM:+0100
TZOFFSETTO:+0000
DTSTART:19281007T030000
RRULE:FREQ=YEARLY;UNTIL=19381002T020000Z;BYMONTH=10;BYMONTHDAY=2,3,4,5,6,7,
 8;BYDAY=SU
END:STANDARD
BEGIN:DAYLIGHT
TZNAME:CEST
TZOFFSETFROM:+0200
TZOFFSETTO:+0200
DTSTART:19440903T000000
END:DAYLIGHT
BEGIN:STANDARD
TZNAME:CET
TZOFFSETFROM:+0100
TZOFFSETTO:+0100
DTSTART:19770101T000000
END:STANDARD
BEGIN:DAYLIGHT
TZNAME:CEST
TZOFFSETFROM:+0100
TZOFFSETTO:+0200
DTSTART:19770403T020000
RRULE:FREQ=YEARLY;UNTIL=19800406T010000Z;BYMONTH=4;BYDAY=1SU
END:DAYLIGHT
BEGIN:STANDARD
TZNAME:CET
TZOFFSETFROM:+0200
TZOFFSETTO:+0100
DTSTART:19790930T030000
RRULE:FREQ=YEARLY;UNTIL=19950924T010000Z;BYMONTH=9;BYDAY=-1SU
END:STANDARD
BEGIN:DAYLIGHT
TZNAME:CEST
TZOFFSETFROM:+0100
TZOFFSETTO:+0200
DTSTART:19810329T020000
RRULE:FREQ=YEARLY;BYMONTH=3;BYDAY=-1SU
END:DAYLIGHT
BEGIN:STANDARD
TZNAME:CET
TZOFFSETFROM:+0200
TZOFFSETTO:+0100
DTSTART:19961027T030000
RRULE:FREQ=YEARLY;BYMONTH=10;BYDAY=-1SU
END:STANDARD
END:VTIMEZONE
BEGIN:VEVENT
DTSTAMP:20260421T134929Z
DTSTART;TZID=Europe/Brussels:20221110T110000
DTEND;TZID=Europe/Brussels:20221110T120000
SUMMARY:Ask the Expert: Wie kann ich mit TEXT-Analytics Twitter Feeds vorso
 rtieren\, um Hinweise auf......
LAST-MODIFIED:20260421T134929Z
LOCATION:
TZID:Europe/Brussels
UID:message-358
DESCRIPTION:Click the link below to go to the event page:\nhttps://communit
 ies.sas.com/t5/Upcoming-Events/Ask-the-Expert-Wie-kann-ich-mit-TEXT-Analyt
 ics-Twitter-Feeds/ec-p/840511#M358\n\nWie kann ich mit TEXT-Analytics Twit
 ter Feeds vorsortieren\, um Hinweise auf mögliche Katastrophenfälle zu erh
 alten?    10. November 2022 | 11:00 – 12:00 Uhr Referent: Ulrich Reincke\,
  Principal Data Scientist   Der SAS Experte Ulrich Reincke zeigt Ihnen in 
 diesem Ask the Expert Webinar die Lösung eines Text Analytics Projekts ent
 lang des analytischen Lebenszyklus in der gesamten SAS Viya Plattform.   J
 etzt anmelden! Webinar in German
X-ALT-DESC;FMTTYPE=text/html:<P>Click the link below to go to the event pag
 e:</P><BR><A href="https://communities.sas.com/t5/Upcoming-Events/Ask-the-
 Expert-Wie-kann-ich-mit-TEXT-Analytics-Twitter-Feeds/ec-p/840511#M358">htt
 ps://communities.sas.com/t5/Upcoming-Events/Ask-the-Expert-Wie-kann-ich-mi
 t-TEXT-Analytics-Twitter-Feeds/ec-p/840511#M358</A><BR><BR><H4 id="toc-hId
 -1427027967">Wie kann ich mit TEXT-Analytics Twitter Feeds vorsortieren\, 
 um Hinweise auf mögliche Katastrophenfälle zu erhalten?&nbsp\;</H4>\n<H5 i
 d="toc-hId--1321642499">&nbsp\;</H5>\n<H5 id="toc-hId-421167836"><SPAN cla
 ss="NormalTextRun SCXW218413557 BCX9">1</SPAN><SPAN class="NormalTextRun S
 CXW218413557 BCX9">0</SPAN><SPAN class="NormalTextRun SCXW218413557 BCX9">
 . </SPAN><SPAN class="NormalTextRun SCXW218413557 BCX9">November</SPAN> <S
 PAN class="NormalTextRun SCXW218413557 BCX9">2022&nbsp\;</SPAN>|&nbsp\;<SP
 AN class="NormalTextRun SCXW218413557 BCX9">11:00 – 12:00 Uhr</SPAN><BR />
 <SPAN class="NormalTextRun SCXW218413557 BCX9">Referent: Ulrich Reincke\,&
 nbsp\;<SPAN class="NormalTextRun SpellingErrorV2Themed SCXW189722563 BCX9"
  data-ccp-parastyle="heading 2">Principal</SPAN><SPAN class="NormalTextRun
  SCXW189722563 BCX9" data-ccp-parastyle="heading 2"> Data Scientist</SPAN>
 </SPAN></H5>\n<H5 id="toc-hId--2130989125">&nbsp\;</H5>\n<H5 id="toc-hId--
 388178790">Der SAS Experte Ulrich Reincke zeigt Ihnen in diesem Ask the Ex
 pert Webinar die Lösung eines Text Analytics Projekts entlang des analytis
 chen Lebenszyklus in der gesamten SAS Viya Plattform.</H5>\n<H5 id="toc-hI
 d-1354631545">&nbsp\;</H5>\n<H5 id="toc-hId--1197525416"><A href="https://
 www.sas.com/de_de/webinars/ask-the-expert-serie-wie-kann-ich-mit-text-anal
 ytics-twitter-feeds-vorsortieren.html" target="_self" rel="nofollow norefe
 rrer noopener">Jetzt anmelden!</A></H5>\n<H5 id="toc-hId-545284919">Webina
 r in German</H5>
END:VEVENT
END:VCALENDAR
