BEGIN:VCALENDAR
CALSCALE:GREGORIAN
VERSION:2.0
PRODID:-//Events Calendar//iCal4j 1.0//EN
BEGIN:VTIMEZONE
TZID:America/New_York
LAST-MODIFIED:20260306T231828Z
TZURL:https://www.tzurl.org/zoneinfo/America/New_York
X-LIC-LOCATION:America/New_York
X-PROLEPTIC-TZNAME:LMT
BEGIN:STANDARD
TZNAME:EST
TZOFFSETFROM:-045602
TZOFFSETTO:-0500
DTSTART:18831118T120358
END:STANDARD
BEGIN:DAYLIGHT
TZNAME:EDT
TZOFFSETFROM:-0500
TZOFFSETTO:-0400
DTSTART:19180331T020000
RRULE:FREQ=YEARLY;UNTIL=19200328T070000Z;BYMONTH=3;BYDAY=-1SU
END:DAYLIGHT
BEGIN:STANDARD
TZNAME:EST
TZOFFSETFROM:-0400
TZOFFSETTO:-0500
DTSTART:19181027T020000
RRULE:FREQ=YEARLY;UNTIL=19201031T060000Z;BYMONTH=10;BYDAY=-1SU
END:STANDARD
BEGIN:DAYLIGHT
TZNAME:EDT
TZOFFSETFROM:-0500
TZOFFSETTO:-0400
DTSTART:19210424T020000
RRULE:FREQ=YEARLY;UNTIL=19410427T070000Z;BYMONTH=4;BYDAY=-1SU
END:DAYLIGHT
BEGIN:STANDARD
TZNAME:EST
TZOFFSETFROM:-0400
TZOFFSETTO:-0500
DTSTART:19210925T020000
RRULE:FREQ=YEARLY;UNTIL=19410928T060000Z;BYMONTH=9;BYDAY=-1SU
END:STANDARD
BEGIN:DAYLIGHT
TZNAME:EWT
TZOFFSETFROM:-0500
TZOFFSETTO:-0400
DTSTART:19420209T020000
END:DAYLIGHT
BEGIN:DAYLIGHT
TZNAME:EPT
TZOFFSETFROM:-0400
TZOFFSETTO:-0400
DTSTART:19450814T190000
END:DAYLIGHT
BEGIN:STANDARD
TZNAME:EST
TZOFFSETFROM:-0400
TZOFFSETTO:-0500
DTSTART:19450930T020000
END:STANDARD
BEGIN:DAYLIGHT
TZNAME:EDT
TZOFFSETFROM:-0500
TZOFFSETTO:-0400
DTSTART:19460428T020000
RRULE:FREQ=YEARLY;UNTIL=19730429T070000Z;BYMONTH=4;BYDAY=-1SU
END:DAYLIGHT
BEGIN:STANDARD
TZNAME:EST
TZOFFSETFROM:-0400
TZOFFSETTO:-0500
DTSTART:19460929T020000
RRULE:FREQ=YEARLY;UNTIL=19540926T060000Z;BYMONTH=9;BYDAY=-1SU
END:STANDARD
BEGIN:STANDARD
TZNAME:EST
TZOFFSETFROM:-0400
TZOFFSETTO:-0500
DTSTART:19551030T020000
RRULE:FREQ=YEARLY;UNTIL=20061029T060000Z;BYMONTH=10;BYDAY=-1SU
END:STANDARD
BEGIN:DAYLIGHT
TZNAME:EDT
TZOFFSETFROM:-0500
TZOFFSETTO:-0400
DTSTART:19740106T020000
RDATE:19750223T020000
END:DAYLIGHT
BEGIN:DAYLIGHT
TZNAME:EDT
TZOFFSETFROM:-0500
TZOFFSETTO:-0400
DTSTART:19760425T020000
RRULE:FREQ=YEARLY;UNTIL=19860427T070000Z;BYMONTH=4;BYDAY=-1SU
END:DAYLIGHT
BEGIN:DAYLIGHT
TZNAME:EDT
TZOFFSETFROM:-0500
TZOFFSETTO:-0400
DTSTART:19870405T020000
RRULE:FREQ=YEARLY;UNTIL=20060402T070000Z;BYMONTH=4;BYDAY=1SU
END:DAYLIGHT
BEGIN:DAYLIGHT
TZNAME:EDT
TZOFFSETFROM:-0500
TZOFFSETTO:-0400
DTSTART:20070311T020000
RRULE:FREQ=YEARLY;BYMONTH=3;BYDAY=2SU
END:DAYLIGHT
BEGIN:STANDARD
TZNAME:EST
TZOFFSETFROM:-0400
TZOFFSETTO:-0500
DTSTART:20071104T020000
RRULE:FREQ=YEARLY;BYMONTH=11;BYDAY=1SU
END:STANDARD
END:VTIMEZONE
BEGIN:VEVENT
DTSTAMP:20260421T134924Z
DTSTART;TZID=America/New_York:20221116T100000
DTEND;TZID=America/New_York:20221116T103000
SUMMARY:SAS Bowl XXV\, SAS Extension for Visual Studio Code
LAST-MODIFIED:20260421T134924Z
LOCATION:https://si.sas.com/sasbowl
TZID:America/New_York
UID:message-357
DESCRIPTION:Click the link below to go to the event page:\nhttps://communit
 ies.sas.com/t5/Upcoming-Events/SAS-Bowl-XXV-SAS-Extension-for-Visual-Studi
 o-Code/ec-p/839402#M357\n\nIn 2019 a survey on Stack Overflow listed Visua
 l Studio Code (VS Code) as the IDE of choice for 50% of the developers sur
 veyed. That number jumped to 71% in 2021. Moral of the story: VS Code is p
 opular in the developer community and is still growing in adoption. Also\,
  in 2019\, SAS users asked for the extension in the Community thread Anyon
 e interested in developing a VS Code extension for SAS language?. SAS rece
 ntly released the SAS Extension for VS Code and we're featuring it in SAS 
 Bowl XXV.    Game Details  The SAS Support Community trivia event\, SAS Bo
 wl XXV\, SAS Extension for Visual Studio Code is scheduled for Wednesday\,
  November 16\, at 10 AM ET. Register for the event and receive an invite t
 o a Microsoft Teams meeting and a calendar event. On game day\, join the T
 eams meeting and access the game here.   More on the SAS Extension for VS 
 Code Rather than asking developers to log into\, and code in\, the SAS UI\
 , we’ve developed the VS Code SAS Extension. The tool offers users an inte
 gration point for adding SAS programs and code into their work\, without h
 aving to switch applications. The tool also offers the ability to connect 
 directly to SAS Viya and run code. The extension is available on SAS’ Visu
 al Studio Marketplace and is available for SAS Viya.   The features number
  too many to list here\, so view the resources below to learn more and gai
 n an advantage in the game.  SAS Visual Studio Marketplace - official VS M
 arketplace site for the SAS extension sas-vscode-extension repository on s
 assoftware GitHub - repository with documentation\, usage notes\, and FAQs
  Visual Studio Code SAS Programming Extension: Meeting You Where You Work 
 - OnDemand SAS Explore SuperDemo (complementary SAS Explore registration r
 equired) VS Code SAS Programming Code Extension Released - Communities art
 icle with project background\, features\, and tips   SAS Bowl and event de
 tails For those who may be new to the SAS Bowl\, you can find game history
  and specifics in this Community memo. There you'll also find links to pre
 vious events\, which include recordings.   Register for the event and rece
 ive an invite with game details and a Teams meeting link. On game day\, Jo
 in the TEAMS meeting to play\, and show off your SAS and worldly knowledge
  while competing for bragging rights and SAS Community game gear.
X-ALT-DESC;FMTTYPE=text/html:<P>Click the link below to go to the event pag
 e:</P><BR><A href="https://communities.sas.com/t5/Upcoming-Events/SAS-Bowl
 -XXV-SAS-Extension-for-Visual-Studio-Code/ec-p/839402#M357">https://commun
 ities.sas.com/t5/Upcoming-Events/SAS-Bowl-XXV-SAS-Extension-for-Visual-Stu
 dio-Code/ec-p/839402#M357</A><BR><BR><P><SPAN>In 2019 a survey on Stack Ov
 erflow listed Visual Studio Code (VS Code) as the IDE of choice for 50% of
  the developers surveyed. That number</SPAN><A href="https://insights.stac
 koverflow.com/survey/2021#most-popular-technologies-new-collab-tools" targ
 et="_blank" rel="noopener nofollow noreferrer"><SPAN>&nbsp\;</SPAN>jumped 
 to 71% in 2021</A><SPAN>. Moral of the story: VS Code is popular in the de
 veloper community and is still growing in adoption. Also\, in 2019\, SAS u
 sers asked for the extension in the Community thread&nbsp\;</SPAN><A href=
 "https://communities.sas.com/t5/Developers/Anyone-interested-in-developpin
 g-a-VS-Code-extension-for-SAS/m-p/548870" target="_self">Anyone interested
  in developing a VS Code extension for SAS language?</A>.&nbsp\;<SPAN>SAS 
 recently released the SAS Extension for VS Code and we're featuring it in 
 SAS Bowl XXV.</SPAN></P>\n<P><LI-WRAPPER></LI-WRAPPER></P>\n<P>&nbsp\;</P>
 \n<H1 id="toc-hId-2015912089">Game Details</H1>\n<UL>\n<LI><STRONG>The SAS
  Support Community trivia event\, SAS Bowl XXV\,&nbsp\;SAS Extension for V
 isual Studio Code is scheduled for Wednesday\, November 16\, at 10 AM ET.<
 /STRONG></LI>\n<LI><STRONG><A href="https://teams.microsoft.com/registrati
 on/XE3BsSU2s0WkMJVSNzoMLw\,xVeMZy9N30a0fCjPllhmsg\,yyI8aqOtlUqihVvQNJSreA\
 ,HBB5sACEkUK7HJowi6Hcxw\,Xr8SSAfjN0aafA1CQkRfRg\,Kpe78QULu0CMX50E8wp2KQ?mo
 de=read&amp\;tenantId=b1c14d5c-3625-45b3-a430-9552373a0c2f" target="_self"
  rel="nofollow noopener noreferrer">Register for the event</A> and receive
  an invite to a Microsoft Teams meeting and a calendar event.</STRONG></LI
 >\n<LI><STRONG>On game day\, join the Teams meeting and&nbsp\;</STRONG><A 
 href="https://si.sas.com/sasbowl" target="_blank" rel="noopener nofollow n
 oreferrer"><STRONG>access the game here</STRONG></A><STRONG>.</STRONG></LI
 >\n</UL>\n<P>&nbsp\;</P>\n<H1 id="toc-hId--536244872">More on&nbsp\;the&nb
 sp\;SAS Extension for VS Code</H1>\n<P>Rather than asking developers to lo
 g into\, and code in\, the SAS UI\, we’ve developed the VS Code SAS Extens
 ion. The tool offers users an integration point for adding SAS programs an
 d code into their work\, without having to switch applications. The tool a
 lso offers the ability to connect directly to SAS Viya and run code.&nbsp\
 ;<SPAN>The extension is available on</SPAN><SPAN>&nbsp\;</SPAN><A href="ht
 tps://marketplace.visualstudio.com/items?itemName=SAS.sas-lsp" target="_bl
 ank" rel="noopener nofollow noreferrer">SAS’ Visual Studio Marketplace</A>
 &nbsp\;and is available for SAS Viya.</P>\n<P>&nbsp\;</P>\n<P>The features
  number too many to list here\, so view the resources below to learn more 
 and gain an advantage in the game.</P>\n<UL>\n<LI><A href="https://marketp
 lace.visualstudio.com/items?itemName=SAS.sas-lsp" target="_blank" rel="noo
 pener nofollow noreferrer">SAS Visual Studio Marketplace</A>&nbsp\;- offic
 ial VS Marketplace site for the SAS extension</LI>\n<LI><A href="https://g
 ithub.com/sassoftware/vscode-sas-extension" target="_blank" rel="noopener 
 nofollow noreferrer">sas-vscode-extension repository on sassoftware GitHub
 </A>&nbsp\;- repository with documentation\, usage notes\, and FAQs</LI>\n
 <LI><A href="https://explore.sas.com/hub/events/8c314b18-f97b-4156-ae95-23
 58df0ba862/sessions/2680b966-0767-4c00-9d29-d90dcac48b4f" target="_self" r
 el="nofollow noopener noreferrer">Visual Studio Code SAS Programming Exten
 sion: Meeting You Where You Work</A> - OnDemand SAS Explore SuperDemo (com
 plementary SAS Explore registration required)</LI>\n<LI><A href="https://c
 ommunities.sas.com/t5/SAS-Communities-Library/VS-Code-SAS-Programming-Code
 -Extension-Released/ta-p/819490" target="_self">VS Code SAS Programming Co
 de Extension Released</A> - Communities article with project background\, 
 features\, and tips</LI>\n</UL>\n<P>&nbsp\;</P>\n<H1 id="toc-hId-120656546
 3">SAS Bowl and event details</H1>\n<P>For those who may be new to the SAS
  Bowl\, you can find game history and specifics in this&nbsp\;<A href="htt
 ps://communities.sas.com/t5/Community-Memo/Introducing-The-SAS-Bowl-your-f
 riendly-SAS-Community-trivia-game/ba-p/673113" target="_blank">Community m
 emo</A>. There you'll also find links to previous events\, which include r
 ecordings.</P>\n<P>&nbsp\;</P>\n<P data-unlink="true"><A href="https://tea
 ms.microsoft.com/registration/XE3BsSU2s0WkMJVSNzoMLw\,xVeMZy9N30a0fCjPllhm
 sg\,yyI8aqOtlUqihVvQNJSreA\,HBB5sACEkUK7HJowi6Hcxw\,Xr8SSAfjN0aafA1CQkRfRg
 \,Kpe78QULu0CMX50E8wp2KQ?mode=read&amp\;tenantId=b1c14d5c-3625-45b3-a430-9
 552373a0c2f" target="_self" rel="nofollow noopener noreferrer">Register fo
 r the event</A>&nbsp\;and receive an invite with game details and a Teams 
 meeting link. On game day\,&nbsp\;Join the TEAMS meeting to play\, and sho
 w off your SAS and worldly knowledge while competing for bragging rights a
 nd&nbsp\;<A href="https://communities.sas.com/t5/SAS-Global-Forum-2020/Ann
 ouncing-your-SAS-Global-Forum-2020-communities-swag/gpm-p/620836" target="
 _blank">SAS Community game gear</A>.</P>
END:VEVENT
END:VCALENDAR
