BEGIN:VCALENDAR
CALSCALE:GREGORIAN
VERSION:2.0
PRODID:-//Events Calendar//iCal4j 1.0//EN
BEGIN:VTIMEZONE
TZID:America/New_York
LAST-MODIFIED:20260306T231828Z
TZURL:https://www.tzurl.org/zoneinfo/America/New_York
X-LIC-LOCATION:America/New_York
X-PROLEPTIC-TZNAME:LMT
BEGIN:STANDARD
TZNAME:EST
TZOFFSETFROM:-045602
TZOFFSETTO:-0500
DTSTART:18831118T120358
END:STANDARD
BEGIN:DAYLIGHT
TZNAME:EDT
TZOFFSETFROM:-0500
TZOFFSETTO:-0400
DTSTART:19180331T020000
RRULE:FREQ=YEARLY;UNTIL=19200328T070000Z;BYMONTH=3;BYDAY=-1SU
END:DAYLIGHT
BEGIN:STANDARD
TZNAME:EST
TZOFFSETFROM:-0400
TZOFFSETTO:-0500
DTSTART:19181027T020000
RRULE:FREQ=YEARLY;UNTIL=19201031T060000Z;BYMONTH=10;BYDAY=-1SU
END:STANDARD
BEGIN:DAYLIGHT
TZNAME:EDT
TZOFFSETFROM:-0500
TZOFFSETTO:-0400
DTSTART:19210424T020000
RRULE:FREQ=YEARLY;UNTIL=19410427T070000Z;BYMONTH=4;BYDAY=-1SU
END:DAYLIGHT
BEGIN:STANDARD
TZNAME:EST
TZOFFSETFROM:-0400
TZOFFSETTO:-0500
DTSTART:19210925T020000
RRULE:FREQ=YEARLY;UNTIL=19410928T060000Z;BYMONTH=9;BYDAY=-1SU
END:STANDARD
BEGIN:DAYLIGHT
TZNAME:EWT
TZOFFSETFROM:-0500
TZOFFSETTO:-0400
DTSTART:19420209T020000
END:DAYLIGHT
BEGIN:DAYLIGHT
TZNAME:EPT
TZOFFSETFROM:-0400
TZOFFSETTO:-0400
DTSTART:19450814T190000
END:DAYLIGHT
BEGIN:STANDARD
TZNAME:EST
TZOFFSETFROM:-0400
TZOFFSETTO:-0500
DTSTART:19450930T020000
END:STANDARD
BEGIN:DAYLIGHT
TZNAME:EDT
TZOFFSETFROM:-0500
TZOFFSETTO:-0400
DTSTART:19460428T020000
RRULE:FREQ=YEARLY;UNTIL=19730429T070000Z;BYMONTH=4;BYDAY=-1SU
END:DAYLIGHT
BEGIN:STANDARD
TZNAME:EST
TZOFFSETFROM:-0400
TZOFFSETTO:-0500
DTSTART:19460929T020000
RRULE:FREQ=YEARLY;UNTIL=19540926T060000Z;BYMONTH=9;BYDAY=-1SU
END:STANDARD
BEGIN:STANDARD
TZNAME:EST
TZOFFSETFROM:-0400
TZOFFSETTO:-0500
DTSTART:19551030T020000
RRULE:FREQ=YEARLY;UNTIL=20061029T060000Z;BYMONTH=10;BYDAY=-1SU
END:STANDARD
BEGIN:DAYLIGHT
TZNAME:EDT
TZOFFSETFROM:-0500
TZOFFSETTO:-0400
DTSTART:19740106T020000
RDATE:19750223T020000
END:DAYLIGHT
BEGIN:DAYLIGHT
TZNAME:EDT
TZOFFSETFROM:-0500
TZOFFSETTO:-0400
DTSTART:19760425T020000
RRULE:FREQ=YEARLY;UNTIL=19860427T070000Z;BYMONTH=4;BYDAY=-1SU
END:DAYLIGHT
BEGIN:DAYLIGHT
TZNAME:EDT
TZOFFSETFROM:-0500
TZOFFSETTO:-0400
DTSTART:19870405T020000
RRULE:FREQ=YEARLY;UNTIL=20060402T070000Z;BYMONTH=4;BYDAY=1SU
END:DAYLIGHT
BEGIN:DAYLIGHT
TZNAME:EDT
TZOFFSETFROM:-0500
TZOFFSETTO:-0400
DTSTART:20070311T020000
RRULE:FREQ=YEARLY;BYMONTH=3;BYDAY=2SU
END:DAYLIGHT
BEGIN:STANDARD
TZNAME:EST
TZOFFSETFROM:-0400
TZOFFSETTO:-0500
DTSTART:20071104T020000
RRULE:FREQ=YEARLY;BYMONTH=11;BYDAY=1SU
END:STANDARD
END:VTIMEZONE
BEGIN:VEVENT
DTSTAMP:20260421T134924Z
DTSTART;TZID=America/New_York:20221108T130000
DTEND;TZID=America/New_York:20221108T160000
SUMMARY:How Do I Migrate From SAS®9 to SAS® Viya®?
LAST-MODIFIED:20260421T134924Z
LOCATION:
TZID:America/New_York
UID:message-354
DESCRIPTION:Click the link below to go to the event page:\nhttps://communit
 ies.sas.com/t5/Upcoming-Events/How-Do-I-Migrate-From-SAS-9-to-SAS-Viya/ec-
 p/838680#M354\n\nThis special edition Ask the Expert learning event will i
 ntroduce SAS Viya administrators and users to the process of migrating you
 r SAS 9.4 content to Viya.   Agenda: 1:00 – 1:05 p.m. Welcome and Agenda R
 eview 1:05 – 1:30 p.m. The SAS Viya Migration Process – An Overview 1:30 –
  2:00 p.m. Content Assessment – An Overview 2:00 – 3:00 p.m. How and When 
 to Modify Your SAS Program to Take Advantage of CAS 3:00 – 3:10 p.m. Break
  3:10 – 3:40 p.m. Migrate SAS Data Integration Studio\, SAS® Enterprise Gu
 ide® and SAS Stored Processes Jobs to Viya – Demonstration 3:40 – 4:00 p.m
 . SAS Trivia Game With Prizes Register Now\nFeatured Guests: TWinand\, Sha
 nnonMoore\, SASKb
X-ALT-DESC;FMTTYPE=text/html:<P>Click the link below to go to the event pag
 e:</P><BR><A href="https://communities.sas.com/t5/Upcoming-Events/How-Do-I
 -Migrate-From-SAS-9-to-SAS-Viya/ec-p/838680#M354">https://communities.sas.
 com/t5/Upcoming-Events/How-Do-I-Migrate-From-SAS-9-to-SAS-Viya/ec-p/838680
 #M354</A><BR><BR><P><SPAN>This special edition Ask the Expert learning eve
 nt will introduce SAS Viya administrators and users to the process of migr
 ating your SAS 9.4 content to Viya.</SPAN></P>\n<P>&nbsp\;</P>\n<P><SPAN>A
 genda:</SPAN></P>\n<TABLE border="1" cellpadding="5">\n<TBODY>\n<TR>\n<TD 
 colspan="1" rowspan="1" width="30%">1:00&nbsp\;– 1:05 p.m.</TD>\n<TD colsp
 an="1" rowspan="1"><SPAN class="xsmall-txt-light">Welcome and Agenda Revie
 w</SPAN></TD>\n</TR>\n<TR>\n<TD colspan="1" rowspan="1">1:05&nbsp\;– 1:30 
 p.m.</TD>\n<TD colspan="1" rowspan="1"><SPAN class="xsmall-txt-light">The 
 SAS Viya Migration Process – An Overview</SPAN></TD>\n</TR>\n<TR>\n<TD col
 span="1" rowspan="1">1:30&nbsp\;– 2:00 p.m.</TD>\n<TD colspan="1" rowspan=
 "1"><SPAN class="xsmall-txt-light">Content Assessment – An Overview</SPAN>
 </TD>\n</TR>\n<TR>\n<TD colspan="1" rowspan="1">2:00&nbsp\;– 3:00 p.m.</TD
 >\n<TD colspan="1" rowspan="1"><SPAN class="xsmall-txt-light">How and When
  to Modify Your SAS Program to Take Advantage of CAS</SPAN></TD>\n</TR>\n<
 TR>\n<TD colspan="1" rowspan="1">3:00&nbsp\;– 3:10 p.m.</TD>\n<TD colspan=
 "1" rowspan="1"><SPAN class="xsmall-txt-light">Break</SPAN></TD>\n</TR>\n<
 TR>\n<TD colspan="1" rowspan="1">3:10&nbsp\;– 3:40 p.m.</TD>\n<TD colspan=
 "1" rowspan="1"><SPAN class="xsmall-txt-light">Migrate SAS Data Integratio
 n Studio\, SAS® Enterprise Guide® and SAS Stored Processes Jobs to Viya – 
 Demonstration</SPAN></TD>\n</TR>\n<TR>\n<TD colspan="1" rowspan="1">3:40&n
 bsp\;– 4:00 p.m.</TD>\n<TD colspan="1" rowspan="1"><SPAN class="xsmall-txt
 -light">SAS Trivia Game With Prizes</SPAN></TD>\n</TR>\n</TBODY>\n</TABLE>
 \n<P><A href="https://www.sas.com/gms/redirect.jsp?detail=GMS237384_336821
 " target="_blank" rel="nofollow noopener noreferrer"><SPAN class="cta-butt
 on-article">Register Now</SPAN></A></P><BR><P>Featured Guests: TWinand\, S
 hannonMoore\, SASKb</P>
END:VEVENT
END:VCALENDAR
