BEGIN:VCALENDAR
CALSCALE:GREGORIAN
VERSION:2.0
PRODID:-//Events Calendar//iCal4j 1.0//EN
BEGIN:VTIMEZONE
TZID:America/New_York
LAST-MODIFIED:20260306T231828Z
TZURL:https://www.tzurl.org/zoneinfo/America/New_York
X-LIC-LOCATION:America/New_York
X-PROLEPTIC-TZNAME:LMT
BEGIN:STANDARD
TZNAME:EST
TZOFFSETFROM:-045602
TZOFFSETTO:-0500
DTSTART:18831118T120358
END:STANDARD
BEGIN:DAYLIGHT
TZNAME:EDT
TZOFFSETFROM:-0500
TZOFFSETTO:-0400
DTSTART:19180331T020000
RRULE:FREQ=YEARLY;UNTIL=19200328T070000Z;BYMONTH=3;BYDAY=-1SU
END:DAYLIGHT
BEGIN:STANDARD
TZNAME:EST
TZOFFSETFROM:-0400
TZOFFSETTO:-0500
DTSTART:19181027T020000
RRULE:FREQ=YEARLY;UNTIL=19201031T060000Z;BYMONTH=10;BYDAY=-1SU
END:STANDARD
BEGIN:DAYLIGHT
TZNAME:EDT
TZOFFSETFROM:-0500
TZOFFSETTO:-0400
DTSTART:19210424T020000
RRULE:FREQ=YEARLY;UNTIL=19410427T070000Z;BYMONTH=4;BYDAY=-1SU
END:DAYLIGHT
BEGIN:STANDARD
TZNAME:EST
TZOFFSETFROM:-0400
TZOFFSETTO:-0500
DTSTART:19210925T020000
RRULE:FREQ=YEARLY;UNTIL=19410928T060000Z;BYMONTH=9;BYDAY=-1SU
END:STANDARD
BEGIN:DAYLIGHT
TZNAME:EWT
TZOFFSETFROM:-0500
TZOFFSETTO:-0400
DTSTART:19420209T020000
END:DAYLIGHT
BEGIN:DAYLIGHT
TZNAME:EPT
TZOFFSETFROM:-0400
TZOFFSETTO:-0400
DTSTART:19450814T190000
END:DAYLIGHT
BEGIN:STANDARD
TZNAME:EST
TZOFFSETFROM:-0400
TZOFFSETTO:-0500
DTSTART:19450930T020000
END:STANDARD
BEGIN:DAYLIGHT
TZNAME:EDT
TZOFFSETFROM:-0500
TZOFFSETTO:-0400
DTSTART:19460428T020000
RRULE:FREQ=YEARLY;UNTIL=19730429T070000Z;BYMONTH=4;BYDAY=-1SU
END:DAYLIGHT
BEGIN:STANDARD
TZNAME:EST
TZOFFSETFROM:-0400
TZOFFSETTO:-0500
DTSTART:19460929T020000
RRULE:FREQ=YEARLY;UNTIL=19540926T060000Z;BYMONTH=9;BYDAY=-1SU
END:STANDARD
BEGIN:STANDARD
TZNAME:EST
TZOFFSETFROM:-0400
TZOFFSETTO:-0500
DTSTART:19551030T020000
RRULE:FREQ=YEARLY;UNTIL=20061029T060000Z;BYMONTH=10;BYDAY=-1SU
END:STANDARD
BEGIN:DAYLIGHT
TZNAME:EDT
TZOFFSETFROM:-0500
TZOFFSETTO:-0400
DTSTART:19740106T020000
RDATE:19750223T020000
END:DAYLIGHT
BEGIN:DAYLIGHT
TZNAME:EDT
TZOFFSETFROM:-0500
TZOFFSETTO:-0400
DTSTART:19760425T020000
RRULE:FREQ=YEARLY;UNTIL=19860427T070000Z;BYMONTH=4;BYDAY=-1SU
END:DAYLIGHT
BEGIN:DAYLIGHT
TZNAME:EDT
TZOFFSETFROM:-0500
TZOFFSETTO:-0400
DTSTART:19870405T020000
RRULE:FREQ=YEARLY;UNTIL=20060402T070000Z;BYMONTH=4;BYDAY=1SU
END:DAYLIGHT
BEGIN:DAYLIGHT
TZNAME:EDT
TZOFFSETFROM:-0500
TZOFFSETTO:-0400
DTSTART:20070311T020000
RRULE:FREQ=YEARLY;BYMONTH=3;BYDAY=2SU
END:DAYLIGHT
BEGIN:STANDARD
TZNAME:EST
TZOFFSETFROM:-0400
TZOFFSETTO:-0500
DTSTART:20071104T020000
RRULE:FREQ=YEARLY;BYMONTH=11;BYDAY=1SU
END:STANDARD
END:VTIMEZONE
BEGIN:VEVENT
DTSTAMP:20260421T134930Z
DTSTART;TZID=America/New_York:20221103T110000
DTEND;TZID=America/New_York:20221103T120000
SUMMARY:What SAS Python Packages are Available and What Do They Do?
LAST-MODIFIED:20260421T134930Z
LOCATION:
TZID:America/New_York
UID:message-353
DESCRIPTION:Click the link below to go to the event page:\nhttps://communit
 ies.sas.com/t5/Upcoming-Events/What-SAS-Python-Packages-are-Available-and-
 What-Do-They-Do/ec-p/838678#M353\n\nJoin this webinar to get an overview o
 f all the SAS Python packages. You will learn how SAS is the collaborative
  environment for open source developers and how it fosters productivity an
 d streamlines workflows.   You will learn:  What SAS Python packages exist
  today\, their key features and when to use them. How to work with the pac
 kages (demonstration). How to get started on your SAS Python journey. Regi
 ster Now  
X-ALT-DESC;FMTTYPE=text/html:<P>Click the link below to go to the event pag
 e:</P><BR><A href="https://communities.sas.com/t5/Upcoming-Events/What-SAS
 -Python-Packages-are-Available-and-What-Do-They-Do/ec-p/838678#M353">https
 ://communities.sas.com/t5/Upcoming-Events/What-SAS-Python-Packages-are-Ava
 ilable-and-What-Do-They-Do/ec-p/838678#M353</A><BR><BR><P>Join this webina
 r to get an overview of all the SAS Python packages. You will learn how SA
 S is the collaborative environment for open source developers and how it f
 osters productivity and streamlines workflows.</P>\n<P>&nbsp\;</P>\n<P>You
  will learn:</P>\n<UL>\n<LI>What SAS Python packages exist today\, their k
 ey features and when to use them.</LI>\n<LI>How to work with the packages 
 (demonstration).</LI>\n<LI>How to get started on your SAS Python journey.<
 /LI>\n</UL>\n<P><A href="https://www.sas.com/gms/redirect.jsp?detail=GMS23
 6343_336764" target="_blank" rel="nofollow noopener noreferrer"><SPAN clas
 s="cta-button-article">Register Now</SPAN></A></P>\n<P>&nbsp\;</P>
END:VEVENT
END:VCALENDAR
