BEGIN:VCALENDAR
CALSCALE:GREGORIAN
VERSION:2.0
PRODID:-//Events Calendar//iCal4j 1.0//EN
BEGIN:VTIMEZONE
TZID:America/New_York
LAST-MODIFIED:20260306T231828Z
TZURL:https://www.tzurl.org/zoneinfo/America/New_York
X-LIC-LOCATION:America/New_York
X-PROLEPTIC-TZNAME:LMT
BEGIN:STANDARD
TZNAME:EST
TZOFFSETFROM:-045602
TZOFFSETTO:-0500
DTSTART:18831118T120358
END:STANDARD
BEGIN:DAYLIGHT
TZNAME:EDT
TZOFFSETFROM:-0500
TZOFFSETTO:-0400
DTSTART:19180331T020000
RRULE:FREQ=YEARLY;UNTIL=19200328T070000Z;BYMONTH=3;BYDAY=-1SU
END:DAYLIGHT
BEGIN:STANDARD
TZNAME:EST
TZOFFSETFROM:-0400
TZOFFSETTO:-0500
DTSTART:19181027T020000
RRULE:FREQ=YEARLY;UNTIL=19201031T060000Z;BYMONTH=10;BYDAY=-1SU
END:STANDARD
BEGIN:DAYLIGHT
TZNAME:EDT
TZOFFSETFROM:-0500
TZOFFSETTO:-0400
DTSTART:19210424T020000
RRULE:FREQ=YEARLY;UNTIL=19410427T070000Z;BYMONTH=4;BYDAY=-1SU
END:DAYLIGHT
BEGIN:STANDARD
TZNAME:EST
TZOFFSETFROM:-0400
TZOFFSETTO:-0500
DTSTART:19210925T020000
RRULE:FREQ=YEARLY;UNTIL=19410928T060000Z;BYMONTH=9;BYDAY=-1SU
END:STANDARD
BEGIN:DAYLIGHT
TZNAME:EWT
TZOFFSETFROM:-0500
TZOFFSETTO:-0400
DTSTART:19420209T020000
END:DAYLIGHT
BEGIN:DAYLIGHT
TZNAME:EPT
TZOFFSETFROM:-0400
TZOFFSETTO:-0400
DTSTART:19450814T190000
END:DAYLIGHT
BEGIN:STANDARD
TZNAME:EST
TZOFFSETFROM:-0400
TZOFFSETTO:-0500
DTSTART:19450930T020000
END:STANDARD
BEGIN:DAYLIGHT
TZNAME:EDT
TZOFFSETFROM:-0500
TZOFFSETTO:-0400
DTSTART:19460428T020000
RRULE:FREQ=YEARLY;UNTIL=19730429T070000Z;BYMONTH=4;BYDAY=-1SU
END:DAYLIGHT
BEGIN:STANDARD
TZNAME:EST
TZOFFSETFROM:-0400
TZOFFSETTO:-0500
DTSTART:19460929T020000
RRULE:FREQ=YEARLY;UNTIL=19540926T060000Z;BYMONTH=9;BYDAY=-1SU
END:STANDARD
BEGIN:STANDARD
TZNAME:EST
TZOFFSETFROM:-0400
TZOFFSETTO:-0500
DTSTART:19551030T020000
RRULE:FREQ=YEARLY;UNTIL=20061029T060000Z;BYMONTH=10;BYDAY=-1SU
END:STANDARD
BEGIN:DAYLIGHT
TZNAME:EDT
TZOFFSETFROM:-0500
TZOFFSETTO:-0400
DTSTART:19740106T020000
RDATE:19750223T020000
END:DAYLIGHT
BEGIN:DAYLIGHT
TZNAME:EDT
TZOFFSETFROM:-0500
TZOFFSETTO:-0400
DTSTART:19760425T020000
RRULE:FREQ=YEARLY;UNTIL=19860427T070000Z;BYMONTH=4;BYDAY=-1SU
END:DAYLIGHT
BEGIN:DAYLIGHT
TZNAME:EDT
TZOFFSETFROM:-0500
TZOFFSETTO:-0400
DTSTART:19870405T020000
RRULE:FREQ=YEARLY;UNTIL=20060402T070000Z;BYMONTH=4;BYDAY=1SU
END:DAYLIGHT
BEGIN:DAYLIGHT
TZNAME:EDT
TZOFFSETFROM:-0500
TZOFFSETTO:-0400
DTSTART:20070311T020000
RRULE:FREQ=YEARLY;BYMONTH=3;BYDAY=2SU
END:DAYLIGHT
BEGIN:STANDARD
TZNAME:EST
TZOFFSETFROM:-0400
TZOFFSETTO:-0500
DTSTART:20071104T020000
RRULE:FREQ=YEARLY;BYMONTH=11;BYDAY=1SU
END:STANDARD
END:VTIMEZONE
BEGIN:VEVENT
DTSTAMP:20260421T134904Z
DTSTART;TZID=America/New_York:20221031T133000
DTEND;TZID=America/New_York:20221031T160000
SUMMARY:Michigan SAS User Group Meeting
LAST-MODIFIED:20260421T134904Z
LOCATION:North Campus Research Complex\, Plymouth Road\, Ann Arbor\, MI\, U
 SA
TZID:America/New_York
UID:message-332
DESCRIPTION:Click the link below to go to the event page:\nhttps://communit
 ies.sas.com/t5/Upcoming-Events/Michigan-SAS-User-Group-Meeting/ec-p/834676
 #M332\n\nJoin us for our NEXT MEETING! Date: Monday\, October 31\, 2022 Ti
 me: 1:30 - 4:00 PM Place: South Atrium\, Building 10            North Camp
 us Research Complex            University of Michigan            Ann Arbor
 \, MI  48105  (click here for parking information)           (also will be
  available as a webinar\, with link to be provided to registered attendees
 ) Cost:  Free!  However\, pre-registration is required due to space constr
 aints.  Refreshments will be provided for in-person attendees.  Register n
 ow for the October meeting!  Agenda   The SAS Data Set Characterization Ut
 ility - Michael Raithel\, Westat Using SAS to Download Files From Amazon W
 eb Services S3 - Michael Raithel\, Westat SAS Macro Program to Autopopulat
 e a Demographics Table - Zhaohui Fan\, University of Michigan Using the SA
 S HPBIN Procedure to Create Format Value Ranges for Numeric Variables - Mi
 chael Raithel\, Westat    
X-ALT-DESC;FMTTYPE=text/html:<P>Click the link below to go to the event pag
 e:</P><BR><A href="https://communities.sas.com/t5/Upcoming-Events/Michigan
 -SAS-User-Group-Meeting/ec-p/834676#M332">https://communities.sas.com/t5/U
 pcoming-Events/Michigan-SAS-User-Group-Meeting/ec-p/834676#M332</A><BR><BR
 ><P>Join us for our&nbsp\;NEXT&nbsp\;MEETING!</P>\n<P><STRONG>Date:</STRON
 G>&nbsp\;Monday\, October 31\, 2022<BR /><STRONG>Time:</STRONG>&nbsp\;1:30
  - 4:00 PM<BR /><STRONG>Place:&nbsp\;</STRONG>South Atrium\, Building 10<B
 R />&nbsp\;&nbsp\;&nbsp\;&nbsp\;&nbsp\;&nbsp\;&nbsp\;&nbsp\;&nbsp\;&nbsp\;
 &nbsp\;<A href="https://nam02.safelinks.protection.outlook.com/?url=https%
 3A%2F%2Fgoo.gl%2Fmaps%2F4oorS8wom7kkgfjCA&amp\;data=05%7C01%7CKate.Ulvelin
 g%40sas.com%7C99c2b1867d9348a46c3608daaabfb2fc%7Cb1c14d5c362545b3a43095523
 73a0c2f%7C0%7C0%7C638010040015052690%7CUnknown%7CTWFpbGZsb3d8eyJWIjoiMC4wL
 jAwMDAiLCJQIjoiV2luMzIiLCJBTiI6Ik1haWwiLCJXVCI6Mn0%3D%7C3000%7C%7C%7C&amp\
 ;sdata=ummr5nEtM3moUUR845h2rEvOzObHzQJJth9x%2Fk7mZFs%3D&amp\;reserved=0" t
 arget="_blank" rel="nofollow noopener noreferrer">North Campus Research Co
 mplex</A><BR />&nbsp\;&nbsp\;&nbsp\;&nbsp\;&nbsp\;&nbsp\;&nbsp\;&nbsp\;&nb
 sp\;&nbsp\; University of Michigan<BR />&nbsp\;&nbsp\;&nbsp\;&nbsp\;&nbsp\
 ;&nbsp\;&nbsp\;&nbsp\;&nbsp\;&nbsp\; Ann Arbor\, MI&nbsp\; 48105&nbsp\;&nb
 sp\;<EM>(click&nbsp\;<A href="https://nam02.safelinks.protection.outlook.c
 om/?url=https%3A%2F%2Fwww.misug.org%2Fuploads%2F8%2F1%2F9%2F1%2F8191072%2F
 ncrc_parking_information.pdf&amp\;data=05%7C01%7CKate.Ulveling%40sas.com%7
 C99c2b1867d9348a46c3608daaabfb2fc%7Cb1c14d5c362545b3a4309552373a0c2f%7C0%7
 C0%7C638010040015208933%7CUnknown%7CTWFpbGZsb3d8eyJWIjoiMC4wLjAwMDAiLCJQIj
 oiV2luMzIiLCJBTiI6Ik1haWwiLCJXVCI6Mn0%3D%7C3000%7C%7C%7C&amp\;sdata=Baq9jf
 PrV4VkY9oH37Pn12jU22DUlQiLSP%2BJh93dqqE%3D&amp\;reserved=0" target="_blank
 " rel="nofollow noopener noreferrer">here</A>&nbsp\;for parking informatio
 n)<BR />&nbsp\;&nbsp\;&nbsp\;&nbsp\;&nbsp\;&nbsp\;&nbsp\;&nbsp\;&nbsp\;&nb
 sp\;<STRONG>(also will be available as a webinar\, with link to be provide
 d to registered attendees)</STRONG></EM><BR /><STRONG>Cost:</STRONG>&nbsp\
 ; Free!&nbsp\; However\, pre-registration is required due to space constra
 ints.&nbsp\; Refreshments will be provided for in-person attendees.&nbsp\;
 &nbsp\;<A href="https://nam02.safelinks.protection.outlook.com/?url=https%
 3A%2F%2Fumich.qualtrics.com%2Fjfe%2Fform%2FSV_6YIJSnVBhcSZfOC&amp\;data=05
 %7C01%7CKate.Ulveling%40sas.com%7C99c2b1867d9348a46c3608daaabfb2fc%7Cb1c14
 d5c362545b3a4309552373a0c2f%7C0%7C0%7C638010040015208933%7CUnknown%7CTWFpb
 GZsb3d8eyJWIjoiMC4wLjAwMDAiLCJQIjoiV2luMzIiLCJBTiI6Ik1haWwiLCJXVCI6Mn0%3D%
 7C3000%7C%7C%7C&amp\;sdata=pKydf5y5QF9DlhBVg41fHHaCfIGnofScHpF9ng5tjOk%3D&
 amp\;reserved=0" target="_blank" rel="nofollow noopener noreferrer">Regist
 er now</A>&nbsp\;for the October meeting!<BR /><BR />Agenda&nbsp\;</P>\n<U
 L>\n<LI>The SAS Data Set Characterization Utility -&nbsp\;<EM>Michael Rait
 hel\, Westat</EM></LI>\n<LI>Using SAS to Download Files From Amazon Web Se
 rvices S3 -&nbsp\;<EM>Michael Raithel\, Westat</EM></LI>\n<LI>SAS Macro Pr
 ogram to Autopopulate a Demographics Table -&nbsp\;<EM>Zhaohui Fan\, Unive
 rsity of Michigan</EM></LI>\n<LI>Using the SAS HPBIN Procedure to Create F
 ormat Value Ranges for Numeric Variables -&nbsp\;<EM>Michael Raithel\, Wes
 tat</EM></LI>\n</UL>\n<P>&nbsp\;</P>\n<P>&nbsp\;</P>
END:VEVENT
END:VCALENDAR
